BEGIN:VCALENDAR
VERSION:2.0
PRODID:-//Ten Lives Cat Rescue - ECPv6.15.20//NONSGML v1.0//EN
CALSCALE:GREGORIAN
METHOD:PUBLISH
X-WR-CALNAME:Ten Lives Cat Rescue
X-ORIGINAL-URL:https://tenlivescatrescue.org
X-WR-CALDESC:Events for Ten Lives Cat Rescue
REFRESH-INTERVAL;VALUE=DURATION:PT1H
X-Robots-Tag:noindex
X-PUBLISHED-TTL:PT1H
BEGIN:VTIMEZONE
TZID:America/New_York
BEGIN:DAYLIGHT
TZOFFSETFROM:-0500
TZOFFSETTO:-0400
TZNAME:EDT
DTSTART:20190310T070000
END:DAYLIGHT
BEGIN:STANDARD
TZOFFSETFROM:-0400
TZOFFSETTO:-0500
TZNAME:EST
DTSTART:20191103T060000
END:STANDARD
BEGIN:DAYLIGHT
TZOFFSETFROM:-0500
TZOFFSETTO:-0400
TZNAME:EDT
DTSTART:20200308T070000
END:DAYLIGHT
BEGIN:STANDARD
TZOFFSETFROM:-0400
TZOFFSETTO:-0500
TZNAME:EST
DTSTART:20201101T060000
END:STANDARD
BEGIN:DAYLIGHT
TZOFFSETFROM:-0500
TZOFFSETTO:-0400
TZNAME:EDT
DTSTART:20210314T070000
END:DAYLIGHT
BEGIN:STANDARD
TZOFFSETFROM:-0400
TZOFFSETTO:-0500
TZNAME:EST
DTSTART:20211107T060000
END:STANDARD
END:VTIMEZONE
BEGIN:VEVENT
DTSTART;TZID=America/New_York:20200927T100000
DTEND;TZID=America/New_York:20200927T140000
DTSTAMP:20260421T073743
CREATED:20200919T184632Z
LAST-MODIFIED:20200920T163510Z
UID:3418-1601200800-1601215200@tenlivescatrescue.org
SUMMARY:Ten Lives at PetValu
DESCRIPTION:  \nMeet Ten Lives at Pet Valu in North Kingstown from 10am-2pm! Volunteers will be on hand to answer your questions about adopting\, volunteering\, and donating. They will also be accepting donations of food and litter for Pet Valu’s donation drive to help kittens and mama cats in our program. We hope to see you there! \n  \nVolunteers will be practicing social distancing and wearing masks. We kindly ask that you do the same.  \n  \n  \n 
URL:https://tenlivescatrescue.org/event/ten-lives-at-petvalu/
LOCATION:RI
END:VEVENT
BEGIN:VEVENT
DTSTART;VALUE=DATE:20200505
DTEND;VALUE=DATE:20200506
DTSTAMP:20260421T073743
CREATED:20200430T201306Z
LAST-MODIFIED:20200430T201306Z
UID:2801-1588636800-1588723199@tenlivescatrescue.org
SUMMARY:Spay it Forward
DESCRIPTION:  \n \nOn May 5th\, Ten Lives Cat Rescue will participate in Giving Tuesday Now. What is GTN? It is a global day of giving and unity in response to the unprecedented need caused by COVID-19. On this day\, people all over the world will come together to lift each other up and create a wave of generosity & support for our community. \nThe world may be shut down\, but there are still cats awaiting rescue and vet care. As the world returns to normal operations we expect there will be many more cats in need of care. Together\, we can be there to provide critical spay/neuter services once it’s safe to do so. \nIn seven years\, one unspayed cat and her offspring can produce 420\,000 kittens. By spaying 1 cat we can prevent the needless suffering for thousands of cats. \nHow does it work? \n-You donate $25\n–Ten Lives matches your $25 donation\n–Volunteer Services for Animals matches your $25 donation \nTogether\, we’re Spaying it Forward. Join us on Facebook throughout the day as we share information on how your generous contributions will be used! \nMore Info:\nhttps://tenlivescatrescue.org/2020/04/29/spay-it-forward/ \nDonate:\nhttps://donorbox.org/spayitforward \n  \n 
URL:https://tenlivescatrescue.org/event/spay-it-forward/
LOCATION:RI
END:VEVENT
BEGIN:VEVENT
DTSTART;TZID=America/New_York:20200502T100000
DTEND;TZID=America/New_York:20200502T104500
DTSTAMP:20260421T073743
CREATED:20200416T154057Z
LAST-MODIFIED:20200430T201336Z
UID:2709-1588413600-1588416300@tenlivescatrescue.org
SUMMARY:Pilates for Purrs
DESCRIPTION:Join us virtually on 5/2/2020 for a 45 minute class of POP Pilates to benefit the cats & kittens of Ten Lives! What is POP Pilates? \nPOP Pilates® is a fusion of strength and flexibility workout that can be done in bare feet on nothing but a yoga mat or the floor. There’s absolutely no equipment needed (other than the mat) because all of the resistance work is done using your own bodyweight. POP Pilates is inspired by traditional pilates and yoga moves but choreographed to fun\, upbeat\, pop music. All levels welcome\, options available for all! \nAttendees will be sent a ZOOM link via email at least 24 hours before the class starts. Be sure to check your email! \nHosted by Alexandra Morelli!
URL:https://tenlivescatrescue.org/event/pilates-for-purrs/
LOCATION:RI
END:VEVENT
END:VCALENDAR