BEGIN:VCALENDAR
VERSION:2.0
PRODID:-//Ten Lives Cat Rescue - ECPv6.15.20//NONSGML v1.0//EN
CALSCALE:GREGORIAN
METHOD:PUBLISH
X-WR-CALNAME:Ten Lives Cat Rescue
X-ORIGINAL-URL:https://tenlivescatrescue.org
X-WR-CALDESC:Events for Ten Lives Cat Rescue
REFRESH-INTERVAL;VALUE=DURATION:PT1H
X-Robots-Tag:noindex
X-PUBLISHED-TTL:PT1H
BEGIN:VTIMEZONE
TZID:America/New_York
BEGIN:DAYLIGHT
TZOFFSETFROM:-0500
TZOFFSETTO:-0400
TZNAME:EDT
DTSTART:20210314T070000
END:DAYLIGHT
BEGIN:STANDARD
TZOFFSETFROM:-0400
TZOFFSETTO:-0500
TZNAME:EST
DTSTART:20211107T060000
END:STANDARD
BEGIN:DAYLIGHT
TZOFFSETFROM:-0500
TZOFFSETTO:-0400
TZNAME:EDT
DTSTART:20220313T070000
END:DAYLIGHT
BEGIN:STANDARD
TZOFFSETFROM:-0400
TZOFFSETTO:-0500
TZNAME:EST
DTSTART:20221106T060000
END:STANDARD
BEGIN:DAYLIGHT
TZOFFSETFROM:-0500
TZOFFSETTO:-0400
TZNAME:EDT
DTSTART:20230312T070000
END:DAYLIGHT
BEGIN:STANDARD
TZOFFSETFROM:-0400
TZOFFSETTO:-0500
TZNAME:EST
DTSTART:20231105T060000
END:STANDARD
END:VTIMEZONE
BEGIN:VEVENT
DTSTART;TZID=America/New_York:20221001T110000
DTEND;TZID=America/New_York:20221001T160000
DTSTAMP:20260423T082311
CREATED:20220721T191524Z
LAST-MODIFIED:20220721T191524Z
UID:6601-1664622000-1664640000@tenlivescatrescue.org
SUMMARY:Meet Ten Lives at BeWitched & BeDazzled: A Magical Fall Festival
DESCRIPTION:Meet Ten Lives at BeWitched & BeDazzled: A Magical Fall Festival at Chase Farm Park! Stop by our table to meet some of our volunteers\, purchase handmade goods and TLCR swag\, and learn more about adopting\, fostering\, and getting involved. All of the proceeds raised at this event will go towards helping the cats in our care. We hope to see you there!
URL:https://tenlivescatrescue.org/event/meet-ten-lives-at-bewitched-bedazzled-a-magical-fall-festival/
LOCATION:Chase Farm Park\, 671 Great Road\, Lincoln\, RI\, 02865\, United States
CATEGORIES:Adoption-Event
END:VEVENT
BEGIN:VEVENT
DTSTART;TZID=America/New_York:20221002T100000
DTEND;TZID=America/New_York:20221002T130000
DTSTAMP:20260423T082311
CREATED:20220902T015904Z
LAST-MODIFIED:20220903T021852Z
UID:7016-1664704800-1664715600@tenlivescatrescue.org
SUMMARY:Petco Open House
DESCRIPTION:Join us at the Petco in Providence for an adoption event! Volunteers will be in-store 10am-1pm with adoptable cats and would love to meet you. We will have information about volunteering and adopting. Petco will also be accepting food donations purchased in-store for the cats in foster homes!\n\n**We will be accepting adoption applications in-store. Ten Lives does not facilitate same day adoptions.
URL:https://tenlivescatrescue.org/event/petco-open-house-4/
LOCATION:Petco Providence\, 585 N Main Street\, Providence\, RI\, 02904\, United States
CATEGORIES:Adoption-Event
END:VEVENT
BEGIN:VEVENT
DTSTART;TZID=America/New_York:20221009T100000
DTEND;TZID=America/New_York:20221009T140000
DTSTAMP:20260423T082311
CREATED:20220602T165351Z
LAST-MODIFIED:20220602T165351Z
UID:6368-1665309600-1665324000@tenlivescatrescue.org
SUMMARY:Meet Ten Lives at Blackbird Farm’s Farmers Market
DESCRIPTION:Meet Ten Lives at Blackbird Farm’s Farmers Market! Stop by our table to meet some of our volunteers\, purchase handmade goods and TLCR swag\, and learn more about adopting\, fostering\, and getting involved. All of the proceeds raised at this event will go towards helping the cats in our care. We hope to see you there!
URL:https://tenlivescatrescue.org/event/meet-ten-lives-at-blackbird-farms-farmers-market-2/
LOCATION:Blackbird Farm\, 660 Douglas Pike\, Smithfield\, RI\, 02917\, United States
END:VEVENT
BEGIN:VEVENT
DTSTART;TZID=America/New_York:20221022T090000
DTEND;TZID=America/New_York:20221022T130000
DTSTAMP:20260423T082311
CREATED:20220902T015430Z
LAST-MODIFIED:20220903T021201Z
UID:7013-1666429200-1666443600@tenlivescatrescue.org
SUMMARY:Petco Open House
DESCRIPTION:Join us at the Petco in North Kingstown an adoption event! Volunteers will be in-store 10am-1pm with adoptable cats and would love to meet you. We will have information about volunteering and adopting. Petco will also be accepting food donations purchased in-store for the cats in foster homes!\n\n**We will be accepting adoption applications in-store. Ten Lives does not facilitate same day adoptions.
URL:https://tenlivescatrescue.org/event/petco-open-house-3/
LOCATION:Petco\, 1007 Ten Rod Road\, Unit A-1\, North Kingstown\, RI\, 02852\, United States
CATEGORIES:Adoption-Event
END:VEVENT
BEGIN:VEVENT
DTSTART;TZID=America/New_York:20221030T150000
DTEND;TZID=America/New_York:20221030T180000
DTSTAMP:20260423T082311
CREATED:20221026T011155Z
LAST-MODIFIED:20221026T011155Z
UID:7286-1667142000-1667152800@tenlivescatrescue.org
SUMMARY:Meet Ten Lives at Fearless Beauty's Open House
DESCRIPTION:Meet Ten Lives at Fearless Beauty’s Open House! Stop by our table to meet some of our volunteers\, purchase handmade goods and TLCR swag\, and learn more about adopting\, fostering\, and getting involved. All of the proceeds raised at this event will go towards helping the cats in our care. We hope to see you there!
URL:https://tenlivescatrescue.org/event/meet-ten-lives-at-fearless-beautys-open-house/
LOCATION:Fearless Beauty\, 1395 Atwood Avenue\, #107\, Johnston\, RI\, 02919
CATEGORIES:Adoption-Event
END:VEVENT
END:VCALENDAR